BEGIN:VCALENDAR
VERSION:2.0
PRODID:-//Hermitage Farm - ECPv6.6.4.2//NONSGML v1.0//EN
CALSCALE:GREGORIAN
METHOD:PUBLISH
X-WR-CALNAME:Hermitage Farm
X-ORIGINAL-URL:https://www.hermitagefarm.com
X-WR-CALDESC:Events for Hermitage Farm
REFRESH-INTERVAL;VALUE=DURATION:PT1H
X-Robots-Tag:noindex
X-PUBLISHED-TTL:PT1H
BEGIN:VTIMEZONE
TZID:America/New_York
BEGIN:DAYLIGHT
TZOFFSETFROM:-0500
TZOFFSETTO:-0400
TZNAME:EDT
DTSTART:20240310T070000
END:DAYLIGHT
BEGIN:STANDARD
TZOFFSETFROM:-0400
TZOFFSETTO:-0500
TZNAME:EST
DTSTART:20241103T060000
END:STANDARD
END:VTIMEZONE
BEGIN:VEVENT
DTSTART;TZID=America/New_York:20240504T100000
DTEND;TZID=America/New_York:20240504T140000
DTSTAMP:20260421T040414
CREATED:20240228T184955Z
LAST-MODIFIED:20240425T160148Z
UID:11943-1714816800-1714831200@www.hermitagefarm.com
SUMMARY:Hermitage Farm Derby Brunch
DESCRIPTION:THIS EVENT IS SOLD OUT\nExperience the epitome of Kentucky elegance at the Hermitage Farm Derby Brunch\, commemorating the 150th Kentucky Derby in grand style. Join us as we enjoy the historic grounds of Hermitage Farm and share an unforgettable day of festivities on May 4th\, 2024\, from 10am to 2pm. Our brunch will feature an open ultra-premium bar and delectable food prepared by our culinary team at Barn8 Restaurant. As you mingle\, immerse yourself in the ambiance of live Gypsy Jazz music\, adding to the sophistication of the occasion. \nDelve into the rich legacy of Kentucky’s thoroughbred racing heritage with exclusive access to Hermitage Farm’s renowned facilities. Interact with our retired sport horses\, tour the thoroughbred side of the farm\, and gain insights into the breeding and training of champions. Witness the majesty of these magnificent creatures up close—a rare opportunity to connect with the heart of Kentucky’s equestrian tradition. Join us for a celebration like no other\, where history\, heritage\, and the spirit of the Kentucky Derby converge in perfect harmony. \n 
URL:https://www.hermitagefarm.com/event/hermitage-farm-derby-brunch/
LOCATION:Main House\, 10500 W Us Highway 42\, Goshen\, KY\, 40026
ORGANIZER;CN="Curtis Conlin":MAILTO:cconlin@hermitagefarm.com
END:VEVENT
END:VCALENDAR