BEGIN:VCALENDAR
VERSION:2.0
PRODID:-//Hermitage Farm - ECPv6.6.4.2//NONSGML v1.0//EN
CALSCALE:GREGORIAN
METHOD:PUBLISH
X-WR-CALNAME:Hermitage Farm
X-ORIGINAL-URL:https://www.hermitagefarm.com
X-WR-CALDESC:Events for Hermitage Farm
REFRESH-INTERVAL;VALUE=DURATION:PT1H
X-Robots-Tag:noindex
X-PUBLISHED-TTL:PT1H
BEGIN:VTIMEZONE
TZID:America/New_York
BEGIN:DAYLIGHT
TZOFFSETFROM:-0500
TZOFFSETTO:-0400
TZNAME:EDT
DTSTART:20240310T070000
END:DAYLIGHT
BEGIN:STANDARD
TZOFFSETFROM:-0400
TZOFFSETTO:-0500
TZNAME:EST
DTSTART:20241103T060000
END:STANDARD
END:VTIMEZONE
BEGIN:VEVENT
DTSTART;TZID=America/New_York:20240717T180000
DTEND;TZID=America/New_York:20240717T193000
DTSTAMP:20260424T114427
CREATED:20240228T185432Z
LAST-MODIFIED:20240228T190125Z
UID:11946-1721239200-1721244600@www.hermitagefarm.com
SUMMARY:Whiskey Files with Elizabeth McCall
DESCRIPTION:Join us as we welcome Elizabeth McCall\, the master distiller from Woodford Reserve. The evening promises a guided tasting of flagship Woodford products alongside an exciting Barn8 Single Barrel Release. Listen as Elizabeth and her team shed light on what sets their brand and products apart. Tickets are limited to ensure an intimate setting for all attendees. \nAbout the speaker:\nElizabeth McCall serves as the Master Distiller for Woodford Reserve\, overseeing new product development and innovations. A Certified Specialist of Spirits (CSS) and the second generation of her family in the spirits industry\, Elizabeth began her career in 2009 as a sensory expert in the quality department at Brown-Forman\, Woodford Reserve’s parent company. With a Master’s Degree from the University of Louisville\, Elizabeth has held various roles within the industry\, culminating in her appointment as Master Distiller in 2023\, succeeding the legendary Chris Morris. \nAbout the event:\nThis event will take place in our Stud Barn at Hermitage Farm on Wednesday\, July 17th at 6:00pm. Your ticket purchase includes admission to an hour long panel with Elizabeth McCall\, pours of two Woodford products specially selected by Elizabeth\, as well as the opportunity to interact with some of our resident horses. You will also be given exclusive early access to purchase bottles of our new Woodford Barn8 Single Barrel. \nPURCHASE TICKETS
URL:https://www.hermitagefarm.com/event/whiskey-files-with-elizabeth-mccall-2/
LOCATION:Stud Barn\, 10500 W US Highway 42\, Goshen\, KY\, 40026\, United States
CATEGORIES:Food & Drink
ORGANIZER;CN="Hannah Curtis":MAILTO:hcurtis@hermitagefarm.com
END:VEVENT
END:VCALENDAR