BEGIN:VCALENDAR
VERSION:2.0
PRODID:-//Hermitage Farm - ECPv6.6.4.2//NONSGML v1.0//EN
CALSCALE:GREGORIAN
METHOD:PUBLISH
X-ORIGINAL-URL:https://www.hermitagefarm.com
X-WR-CALDESC:Events for Hermitage Farm
REFRESH-INTERVAL;VALUE=DURATION:PT1H
X-Robots-Tag:noindex
X-PUBLISHED-TTL:PT1H
BEGIN:VTIMEZONE
TZID:America/New_York
BEGIN:DAYLIGHT
TZOFFSETFROM:-0500
TZOFFSETTO:-0400
TZNAME:EDT
DTSTART:20240310T070000
END:DAYLIGHT
BEGIN:STANDARD
TZOFFSETFROM:-0400
TZOFFSETTO:-0500
TZNAME:EST
DTSTART:20241103T060000
END:STANDARD
END:VTIMEZONE
BEGIN:VEVENT
DTSTART;TZID=America/New_York:20240331T100000
DTEND;TZID=America/New_York:20240331T160000
DTSTAMP:20260424T082712
CREATED:20240229T201742Z
LAST-MODIFIED:20240304T171832Z
UID:11974-1711879200-1711900800@www.hermitagefarm.com
SUMMARY:Easter Brunch at Hermitage Farm
DESCRIPTION:We’re excited to announce our special Easter brunch on March 31st\, running from 10am to 4pm. Join us for a delightful brunch buffet showcasing a range of favorites\, from our beloved biscuits and gravy to freshly crafted homemade frittatas. \nFeaturing a carving station\, omelet station\, and a seared salmon spread sure to delight\, there’s something to satisfy every palate. Plus\, keep an eye out for the Easter Bunny\, who’ll be spreading joy throughout the event! \nSEE THE MENU
URL:https://www.hermitagefarm.com/event/easter-brunch-at-hermitage-farm/
LOCATION:Barn8\, 10500 W Us Highway 42\, Goshen\, KY\, 40026\, United States
CATEGORIES:Food & Drink
ORGANIZER;CN="Curtis Conlin":MAILTO:cconlin@hermitagefarm.com
END:VEVENT
END:VCALENDAR