BEGIN:VCALENDAR
VERSION:2.0
PRODID:-//Hermitage Farm - ECPv6.6.4.2//NONSGML v1.0//EN
CALSCALE:GREGORIAN
METHOD:PUBLISH
X-ORIGINAL-URL:https://www.hermitagefarm.com
X-WR-CALDESC:Events for Hermitage Farm
REFRESH-INTERVAL;VALUE=DURATION:PT1H
X-Robots-Tag:noindex
X-PUBLISHED-TTL:PT1H
BEGIN:VTIMEZONE
TZID:America/New_York
BEGIN:DAYLIGHT
TZOFFSETFROM:-0500
TZOFFSETTO:-0400
TZNAME:EDT
DTSTART:20220313T070000
END:DAYLIGHT
BEGIN:STANDARD
TZOFFSETFROM:-0400
TZOFFSETTO:-0500
TZNAME:EST
DTSTART:20221106T060000
END:STANDARD
END:VTIMEZONE
BEGIN:VEVENT
DTSTART;TZID=America/New_York:20220603T100000
DTEND;TZID=America/New_York:20220605T160000
DTSTAMP:20260425T081152
CREATED:20220428T210610Z
LAST-MODIFIED:20220428T210610Z
UID:9913-1654250400-1654444800@www.hermitagefarm.com
SUMMARY:The 2022 Kentucky Classic
DESCRIPTION:Join us for a beautiful weekend with family and friends on the historic grounds of Hermitage Farm in Goshen\, Kentucky. Tickets for the Kentucky Class grant you access to all three days of the competition! \nSaturday\, June 4th offers an exciting day with plenty of endurance competitions\, food and beverage tents\, VIP area\, and more. Enjoy food and bourbon selections from Barn8 and others. \nBring your lawn chair and watch the action. We look forward to seeing you there!
URL:https://www.hermitagefarm.com/event/the-2022-kentucky-classic/
LOCATION:Hermitage Farm\, 10500 W U.S. Hwy 42\, Goshen\, KY\, 40026\, United States
CATEGORIES:Equine
ORGANIZER;CN="Curtis Conlin":MAILTO:cconlin@hermitagefarm.com
END:VEVENT
END:VCALENDAR